Workbook

Sheet 32 heures 
B2: Pour paramétrer votre bénévolomètre, entrez uniquement les valeurs dans les cases blanches. Ne rien modifier d'autre, le calcul est automatique !
B4: Nombre de jours travaillés par an : | D4: 228 | F4: Soit une durée théorique journalière de | K4: =K6/24 -> 0.26663012
B6: Volume horaire annuel : | D6: 1459 | K6: =D6/D4 -> 6.3991228 | L6: heures
D8: 0 | E8: 1 | F8: 2 | G8: 3 | H8: 4 | I8: 5 | J8: 6 | K8: 7 | L8: 8 | M8: 9
C9: Durée Journalière de travail | D9: =D17/24 -> 0.26663012 | E9: =E17/24 -> 0.28125 | F9: =F17/24 -> 0.29166667 | G9: =G17/24 -> 0.3125 | H9: =H17/24 -> 0.33333333 | I9: =I17/24 -> 0.35416667 | J9: =J17/24 -> 0.375 | K9: =K17/24 -> 0.39583333 | ... M9: =M17/24 -> 0.4375
C10: Dépassement équivalent en Journées de Service | D10: 0 | E10: =ROUND(E18,0) -> 13 | F10: =ROUND(F18,0) -> 21 | G10: =ROUND(G18,0) -> 39 | H10: =ROUND(H18,0) -> 57 | I10: =ROUND(I18,0) -> 75 | J10: =ROUND(J18,0) -> 93 | K10: =ROUND(K18,0) -> 110 | L10: =ROUND(L18,0) -> 128 | M10: =ROUND(M18,0) -> 146
C11: En fin d'année, j'aurais travaillé gratuitement depuis le : | D11: NC | E11: =VLOOKUP('32 heures '!E10,Calendrier!$A$2:$B$151,2,FALSE) -> 45638 | F11: =VLOOKUP('32 heures '!F10,Calendrier!$A$2:$B$151,2,FALSE) -> 45628 | G11: =VLOOKUP('32 heures '!G10,Calendrier!$A$2:$B$151,2,FALSE) -> 45601 | H11: =VLOOKUP('32 heures '!H10,Calendrier!$A$2:$B$151,2,FALSE) -> 45574 | I11: =VLOOKUP('32 heures '!I10,Calendrier!$A$2:$B$151,2,FALSE) -> 45552 | J11: =VLOOKUP('32 heures '!J10,Calendrier!$A$2:$B$151,2,FALSE) -> 45526 | K11: =VLOOKUP('32 heures '!K10,Calendrier!$A$2:$B$151,2,FALSE) -> 45502 | L11: =VLOOKUP('32 heures '!L10,Calendrier!$A$2:$B$151,2,FALSE) -> 45476 | M11: =VLOOKUP('32 heures '!M10,Calendrier!$A$2:$B$151,2,FALSE) -> 45450
A17: Durée quotidienne de travail effectif | D17: =K6 -> 6.3991228 | E17: 6.75 | F17: 7 | G17: 7.5 | H17: 8 | I17: 8.5 | J17: 9 | K17: 9.5 | L17: 10 | M17: 10.5
A18: Equivalent en nombre de journées à durée théorique | D18: 0 | E18: =((E17*$D$4)-$D$6)/$K$6 -> 12.501714 | F18: =((F17*$D$4)-$D$6)/$K$6 -> 21.409184 | G18: =((G17*$D$4)-$D$6)/$K$6 -> 39.224126 | H18: =((H17*$D$4)-$D$6)/$K$6 -> 57.039068 | I18: =((I17*$D$4)-$D$6)/$K$6 -> 74.85401 | J18: =((J17*$D$4)-$D$6)/$K$6 -> 92.668951 | K18: =((K17*$D$4)-$D$6)/$K$6 -> 110.48389 | L18: =((L17*$D$4)-$D$6)/$K$6 -> 128.29883 | M18: =((M17*$D$4)-$D$6)/$K$6 -> 146.11378

Sheet Nbre d'ETP à créer
B2: Pour paramétrer votre bénévolomètre, entrez uniquement les valeurs dans les cases blanches. Ne rien modifier d'autre, le calcul est automatique !
B4: Nombre de jours travaillés par an : | D4: 228 | F4: Soit une durée théorique journalière de | K4: =K6/24 -> 0.26663012
B6: Volume horaire annuel : | D6: 1459 | K6: =D6/D4 -> 6.3991228 | L6: heures
D8: 0 | E8: 1 | F8: 2 | G8: 3 | H8: 4 | I8: 5 | J8: 6 | K8: 7 | L8: 8 | M8: 9
C9: Durée Journalière de travail | D9: =D26/24 -> 0.26663012 | E9: =E26/24 -> 0.28125 | F9: =F26/24 -> 0.29166667 | G9: =G26/24 -> 0.3125 | H9: =H26/24 -> 0.33333333 | I9: =I26/24 -> 0.35416667 | J9: =J26/24 -> 0.375 | K9: =K26/24 -> 0.39583333 | ... M9: =M26/24 -> 0.4375
C10: Dépassement équivalent en Journées de Service | D10: 0 | E10: =ROUND(E27,0) -> 13 | F10: =ROUND(F27,0) -> 21 | G10: =ROUND(G27,0) -> 39 | H10: =ROUND(H27,0) -> 57 | I10: =ROUND(I27,0) -> 75 | J10: =ROUND(J27,0) -> 93 | K10: =ROUND(K27,0) -> 110 | L10: =ROUND(L27,0) -> 128 | M10: =ROUND(M27,0) -> 146
C11: En fin d'année, j'aurais travaillé gratuitement depuis le : | D11: NC | E11: =VLOOKUP('Nbre d''ETP à créer'!E10,Calendrier!$A$2:$B$151,2,FALSE) -> 45638 | F11: =VLOOKUP('Nbre d''ETP à créer'!F10,Calendrier!$A$2:$B$151,2,FALSE) -> 45628 | G11: =VLOOKUP('Nbre d''ETP à créer'!G10,Calendrier!$A$2:$B$151,2,FALSE) -> 45601 | H11: =VLOOKUP('Nbre d''ETP à créer'!H10,Calendrier!$A$2:$B$151,2,FALSE) -> 45574 | I11: =VLOOKUP('Nbre d''ETP à créer'!I10,Calendrier!$A$2:$B$151,2,FALSE) -> 45552 | J11: =VLOOKUP('Nbre d''ETP à créer'!J10,Calendrier!$A$2:$B$151,2,FALSE) -> 45526 | K11: =VLOOKUP('Nbre d''ETP à créer'!K10,Calendrier!$A$2:$B$151,2,FALSE) -> 45502 | L11: =VLOOKUP('Nbre d''ETP à créer'!L10,Calendrier!$A$2:$B$151,2,FALSE) -> 45476 | M11: =VLOOKUP('Nbre d''ETP à créer'!M10,Calendrier!$A$2:$B$151,2,FALSE) -> 45450
A14: Nombre d'ETP à exiger | C14: =ROUNDDOWN((F14*E10*K6)/D6,0)+ROUNDDOWN((F15*F10*K6)/D6,0)+ROUNDDOWN((F16*G10*K6)/D6,0)+ROUNDDOWN((F17*H10*K6)/D6,0)+ROUNDDOWN((F18*I10*K6)/D6,0)+ROUNDDOWN((F19*J10*K6)/D6,0)+ROUNDDOWN((F20*K10*K6)/D6,0)+ROUNDDOWN((F21*L10*K6)/D6,0)+ROUNDDOWN((F22*M10*K6)/D6,0) -> 0 | D14: si vous êtes | F14: 0 | G14: à être dans la situation | J14: 1
F15: 0 | J15: 2
F16: 0 | J16: 3
F17: 0 | J17: 4
F18: 0 | J18: 5
F19: 0 | J19: 6
F20: 0 | J20: 7
F21: 0 | J21: 8
F22: 0 | J22: 9
A26: Durée quotidienne de travail effectif | D26: =K6 -> 6.3991228 | E26: 6.75 | F26: 7 | G26: 7.5 | H26: 8 | I26: 8.5 | J26: 9 | K26: 9.5 | L26: 10 | M26: 10.5
A27: Equivalent en nombre de journées à durée théorique | D27: 0 | E27: =((E26*$D$4)-$D$6)/$K$6 -> 12.501714 | F27: =((F26*$D$4)-$D$6)/$K$6 -> 21.409184 | G27: =((G26*$D$4)-$D$6)/$K$6 -> 39.224126 | H27: =((H26*$D$4)-$D$6)/$K$6 -> 57.039068 | I27: =((I26*$D$4)-$D$6)/$K$6 -> 74.85401 | J27: =((J26*$D$4)-$D$6)/$K$6 -> 92.668951 | K27: =((K26*$D$4)-$D$6)/$K$6 -> 110.48389 | L27: =((L26*$D$4)-$D$6)/$K$6 -> 128.29883 | M27: =((M26*$D$4)-$D$6)/$K$6 -> 146.11378

Sheet Calcul par volume horaire
B2: Pour paramétrer votre bénévolomètre, entrez uniquement les valeurs dans les cases blanches. Ne rien modifier d'autre, le calcul est automatique !
B4: Nombre de jours travaillés par an : | D4: 228 | F4: Soit une durée théorique journalière de | K4: =K6/24 -> 0.26663012
B6: Volume horaire annuel : | D6: 1459 | K6: =D6/D4 -> 6.3991228 | L6: heures
D8: 0 | E8: 1 | F8: 2 | G8: 3 | H8: 4 | I8: 5 | J8: 6 | K8: 7 | L8: 8 | M8: 9
C9: Durée Journalière de travail | D9: =D17/24 -> 0.26663012 | E9: =E17/24 -> 0.28125 | F9: =F17/24 -> 0.29166667 | G9: =G17/24 -> 0.3125 | H9: =H17/24 -> 0.33333333 | I9: =I17/24 -> 0.35416667 | J9: =J17/24 -> 0.375 | K9: =K17/24 -> 0.39583333 | ... M9: =M17/24 -> 0.4375
C10: Dépassement équivalent en Journées de Service | D10: 0 | E10: =ROUND(E18,0) -> 13 | F10: =ROUND(F18,0) -> 21 | G10: =ROUND(G18,0) -> 39 | H10: =ROUND(H18,0) -> 57 | I10: =ROUND(I18,0) -> 75 | J10: =ROUND(J18,0) -> 93 | K10: =ROUND(K18,0) -> 110 | L10: =ROUND(L18,0) -> 128 | M10: =ROUND(M18,0) -> 146
C11: En fin d'année, j'aurais travaillé gratuitement depuis le : | D11: NC | E11: =VLOOKUP('Calcul par volume horaire'!E10,Calendrier!$A$2:$B$151,2,FALSE) -> 45638 | F11: =VLOOKUP('Calcul par volume horaire'!F10,Calendrier!$A$2:$B$151,2,FALSE) -> 45628 | G11: =VLOOKUP('Calcul par volume horaire'!G10,Calendrier!$A$2:$B$151,2,FALSE) -> 45601 | H11: =VLOOKUP('Calcul par volume horaire'!H10,Calendrier!$A$2:$B$151,2,FALSE) -> 45574 | I11: =VLOOKUP('Calcul par volume horaire'!I10,Calendrier!$A$2:$B$151,2,FALSE) -> 45552 | J11: =VLOOKUP('Calcul par volume horaire'!J10,Calendrier!$A$2:$B$151,2,FALSE) -> 45526 | K11: =VLOOKUP('Calcul par volume horaire'!K10,Calendrier!$A$2:$B$151,2,FALSE) -> 45502 | L11: =VLOOKUP('Calcul par volume horaire'!L10,Calendrier!$A$2:$B$151,2,FALSE) -> 45476 | M11: =VLOOKUP('Calcul par volume horaire'!M10,Calendrier!$A$2:$B$151,2,FALSE) -> 45450
A17: Durée quotidienne de travail effectif | D17: =K6 -> 6.3991228 | E17: 6.75 | F17: 7 | G17: 7.5 | H17: 8 | I17: 8.5 | J17: 9 | K17: 9.5 | L17: 10 | M17: 10.5
A18: Equivalent en nombre de journées à durée théorique | D18: 0 | E18: =((E17*$D$4)-$D$6)/$K$6 -> 12.501714 | F18: =((F17*$D$4)-$D$6)/$K$6 -> 21.409184 | G18: =((G17*$D$4)-$D$6)/$K$6 -> 39.224126 | H18: =((H17*$D$4)-$D$6)/$K$6 -> 57.039068 | I18: =((I17*$D$4)-$D$6)/$K$6 -> 74.85401 | J18: =((J17*$D$4)-$D$6)/$K$6 -> 92.668951 | K18: =((K17*$D$4)-$D$6)/$K$6 -> 110.48389 | L18: =((L17*$D$4)-$D$6)/$K$6 -> 128.29883 | M18: =((M17*$D$4)-$D$6)/$K$6 -> 146.11378

Sheet Calcul par durée journalière
B2: Pour paramétrer votre bénévolomètre, entrez uniquement les valeurs dans les cases blanches. Ne rien modifier d'autre, le calcul est automatique !
B4: Nombre de jours travaillés par an : | D4: 228 | F4: Durée théorique journalière de : (Format H,MM) | K4: 7
B6: Volume horaire annuel : | D6: =ROUND(D4*K6,0) -> 1596 | K6: =TRUNC(K4,0)+((K4-TRUNC(K4,0))/60*100) -> 7 | L6: heures
C9: Durée Journalière de travail | D9: 7 | E9: =E26/24 -> 0.33333333 | F9: =F26/24 -> 0.35416667 | G9: =G26/24 -> 0.375 | H9: =H26/24 -> 0.39583333 | I9: =I26/24 -> 0.41666667 | J9: =J26/24 -> 0.4375 | K9: =K26/24 -> 0.45833333 | L9: =L26/24 -> 0.47916667 | M9: =M26/24 -> 0.5
C10: Dépassement équivalent en Journées de Service | D10: 0 | E10: =ROUND(E27,0) -> 33 | F10: =ROUND(F27,0) -> 49 | G10: =ROUND(G27,0) -> 65 | H10: =ROUND(H27,0) -> 81 | I10: =ROUND(I27,0) -> 98 | J10: =ROUND(J27,0) -> 114 | K10: =ROUND(K27,0) -> 130 | L10: =ROUND(L27,0) -> 147 | M10: =ROUND(M27,0) -> 163
C11: En fin d'année, j'aurais travaillé gratuitement depuis le : | D11: NC | E11: =VLOOKUP('Calcul par durée journalière'!E10,Calendrier!$A$2:$B$151,2,FALSE) -> 45610 | F11: =VLOOKUP('Calcul par durée journalière'!F10,Calendrier!$A$2:$B$151,2,FALSE) -> 45586 | G11: =VLOOKUP('Calcul par durée journalière'!G10,Calendrier!$A$2:$B$151,2,FALSE) -> 45566 | H11: =VLOOKUP('Calcul par durée journalière'!H10,Calendrier!$A$2:$B$151,2,FALSE) -> 45544 | I11: =VLOOKUP('Calcul par durée journalière'!I10,Calendrier!$A$2:$B$151,2,FALSE) -> 45518 | J11: =VLOOKUP('Calcul par durée journalière'!J10,Calendrier!$A$2:$B$151,2,FALSE) -> 45496 | K11: =VLOOKUP('Calcul par durée journalière'!K10,Calendrier!$A$2:$B$151,2,FALSE) -> 45474 | L11: =VLOOKUP('Calcul par durée journalière'!L10,Calendrier!$A$2:$B$151,2,FALSE) -> 45449 | M11: =VLOOKUP('Calcul par durée journalière'!M10,Calendrier!$A$2:$B$151,2,FALSE) -> #N/A
A26: Durée quotidienne de travail effectif | D26: =K6 -> 7 | E26: 8 | F26: 8.5 | G26: 9 | H26: 9.5 | I26: 10 | J26: 10.5 | K26: 11 | L26: 11.5 | M26: 12
A27: Equivalent en nombre de journées à durée théorique | D27: 0 | E27: =((E26*$D$4)-$D$6)/$K$6 -> 32.571429 | F27: =((F26*$D$4)-$D$6)/$K$6 -> 48.857143 | G27: =((G26*$D$4)-$D$6)/$K$6 -> 65.142857 | H27: =((H26*$D$4)-$D$6)/$K$6 -> 81.428571 | I27: =((I26*$D$4)-$D$6)/$K$6 -> 97.714286 | J27: =((J26*$D$4)-$D$6)/$K$6 -> 114 | K27: =((K26*$D$4)-$D$6)/$K$6 -> 130.28571 | L27: =((L26*$D$4)-$D$6)/$K$6 -> 146.57143 | M27: =((M26*$D$4)-$D$6)/$K$6 -> 162.85714

Sheet Calendrier
A2: 1 | B2: 45657
A3: 2 | B3: 45656
A4: 3 | B4: 45653
A5: 4 | B5: 45652
A6: 5 | B6: 45650
A7: 6 | B7: 45649
A8: 7 | B8: 45646
A9: 8 | B9: 45645
A10: 9 | B10: 45644
A11: 10 | B11: 45643
A12: 11 | B12: 45642
A13: 12 | B13: 45639
... A151: 150 | B151: 45446
